BEGIN:VCALENDAR
VERSION:2.0
PRODID:-//Zoe to Zoe - ECPv6.15.20//NONSGML v1.0//EN
CALSCALE:GREGORIAN
METHOD:PUBLISH
X-WR-CALNAME:Zoe to Zoe
X-ORIGINAL-URL:https://zoetozoe.com
X-WR-CALDESC:Events for Zoe to Zoe
REFRESH-INTERVAL;VALUE=DURATION:PT1H
X-Robots-Tag:noindex
X-PUBLISHED-TTL:PT1H
BEGIN:VTIMEZONE
TZID:America/New_York
BEGIN:DAYLIGHT
TZOFFSETFROM:-0500
TZOFFSETTO:-0400
TZNAME:EDT
DTSTART:20210314T070000
END:DAYLIGHT
BEGIN:STANDARD
TZOFFSETFROM:-0400
TZOFFSETTO:-0500
TZNAME:EST
DTSTART:20211107T060000
END:STANDARD
BEGIN:DAYLIGHT
TZOFFSETFROM:-0500
TZOFFSETTO:-0400
TZNAME:EDT
DTSTART:20220313T070000
END:DAYLIGHT
BEGIN:STANDARD
TZOFFSETFROM:-0400
TZOFFSETTO:-0500
TZNAME:EST
DTSTART:20221106T060000
END:STANDARD
BEGIN:DAYLIGHT
TZOFFSETFROM:-0500
TZOFFSETTO:-0400
TZNAME:EDT
DTSTART:20230312T070000
END:DAYLIGHT
BEGIN:STANDARD
TZOFFSETFROM:-0400
TZOFFSETTO:-0500
TZNAME:EST
DTSTART:20231105T060000
END:STANDARD
BEGIN:DAYLIGHT
TZOFFSETFROM:-0500
TZOFFSETTO:-0400
TZNAME:EDT
DTSTART:20240310T070000
END:DAYLIGHT
BEGIN:STANDARD
TZOFFSETFROM:-0400
TZOFFSETTO:-0500
TZNAME:EST
DTSTART:20241103T060000
END:STANDARD
BEGIN:DAYLIGHT
TZOFFSETFROM:-0500
TZOFFSETTO:-0400
TZNAME:EDT
DTSTART:20250309T070000
END:DAYLIGHT
BEGIN:STANDARD
TZOFFSETFROM:-0400
TZOFFSETTO:-0500
TZNAME:EST
DTSTART:20251102T060000
END:STANDARD
BEGIN:DAYLIGHT
TZOFFSETFROM:-0500
TZOFFSETTO:-0400
TZNAME:EDT
DTSTART:20260308T070000
END:DAYLIGHT
BEGIN:STANDARD
TZOFFSETFROM:-0400
TZOFFSETTO:-0500
TZNAME:EST
DTSTART:20261101T060000
END:STANDARD
END:VTIMEZONE
BEGIN:VTIMEZONE
TZID:UTC
BEGIN:STANDARD
TZOFFSETFROM:+0000
TZOFFSETTO:+0000
TZNAME:UTC
DTSTART:20210101T000000
END:STANDARD
END:VTIMEZONE
BEGIN:VEVENT
DTSTART;TZID=America/New_York:20251206T120000
DTEND;TZID=America/New_York:20251206T140000
DTSTAMP:20260423T142313
CREATED:20251206T013027Z
LAST-MODIFIED:20251206T013107Z
UID:4299-1765022400-1765029600@zoetozoe.com
SUMMARY:Family Prayer Gathering
DESCRIPTION:Join us for a joyful time of prayer and teaching on Saturday\, December 6th at 12:00 PM.\nThis gathering will be held virtually\, so you can join us from wherever you are. We’ll spend time in God’s presence\, receive encouragement from the Word\, and stand in agreement for the needs of our families\, communities\, and nation. \n📅 Date: December 6\n🕛 Time: 12:00 PM\n💻 Location: Virtual (meeting details are listed below) \nInvite a friend or loved one\, and come expecting to be refreshed\, strengthened\, and inspired. \nMeeting Link\nmeet.google.com/piu-qyzw-fnj \nJoin by Phone\n(US) +1 903-980-1580\nPIN: 816821480
URL:https://zoetozoe.com/event/family-prayer-gathering/
LOCATION:Google Meet
CATEGORIES:PRAYER GATHERING
ATTACH;FMTTYPE=image/png:https://zoetozoe.com/wp-content/uploads/2025/12/Flyer-Family-Prayer-Gathering.png
END:VEVENT
BEGIN:VEVENT
DTSTART;TZID=America/New_York:20241221T170000
DTEND;TZID=America/New_York:20241221T200000
DTSTAMP:20260423T142313
CREATED:20241105T175029Z
LAST-MODIFIED:20241105T175139Z
UID:4271-1734800400-1734811200@zoetozoe.com
SUMMARY:Prayer for Families & A Night of Worship Through the Arts
DESCRIPTION:Join us for a unique and powerful worship experience as minstrels\, psalmists\, poets\, dancers\, and visual artists come together with one purpose in mind – to worship and glorify God!\nWe will start the evening out with a Prayer for Families at 5:00 pm and transition right into “A Night of Worship through the Arts” with the blowing of the shofar at 6:00 pm. Come and experience the presence and power of God in this united worship experience. God will be glorified and the name of Jesus magnified. It will be an unforgettable evening of creativity\, expression\, and pure worship. \nLearn more: saturdaynightpoeticflo.com \n 
URL:https://zoetozoe.com/event/prayer-for-families-a-night-of-worship-through-the-arts/
LOCATION:Church of Jesus Apostolic Ministries\, 2381 Jonesboro Rd SE\, Atlanta\, GA\, 30315\, United States
ATTACH;FMTTYPE=image/png:https://zoetozoe.com/wp-content/uploads/2024/11/A-Night-of-Worship-Flyer-12.21.2024.png
END:VEVENT
BEGIN:VEVENT
DTSTART;VALUE=DATE:20241108
DTEND;VALUE=DATE:20241111
DTSTAMP:20260423T142313
CREATED:20240813T203711Z
LAST-MODIFIED:20240813T204236Z
UID:4241-1731024000-1731283199@zoetozoe.com
SUMMARY:Passageway to the Secret Place Worshippers Retreat
DESCRIPTION:Join me at the Passageway to the Secret Place Worshippers Retreat\, Nov 8th – 10th.\nRegistration fee includes lodging and meals. Don’t miss this time of refreshing in the Presence of the Lord.  The retreat is 3 days and 2 nights of freedom\, healing\, deliverance\, fellowship\, and much\, much more.
URL:https://zoetozoe.com/event/passageway-to-the-secret-place/
LOCATION:Table Rock Christian Retreat Center\, 125 Bethany Cove Dr.\, Pickens\, SC\, 29671\, United States
CATEGORIES:SPEAKING ENGAGEMENTS
ATTACH;FMTTYPE=image/jpeg:https://zoetozoe.com/wp-content/uploads/2024/08/secret-place-2.jpg
END:VEVENT
BEGIN:VEVENT
DTSTART;TZID=America/New_York:20241019T100000
DTEND;TZID=America/New_York:20241019T120000
DTSTAMP:20260423T142313
CREATED:20240813T190547Z
LAST-MODIFIED:20240813T190547Z
UID:4236-1729332000-1729339200@zoetozoe.com
SUMMARY:Workshop 3: The End to Our Beginning
DESCRIPTION:I’m excited to announce Workshop #3!\nJoin me for teachings extracted from my book\, The End to Our Beginning.  Come fellowship\, be empowered through the Word of God\, take part in lively discussions\, and learn more about The End to Our Beginning.  This workshop is free\, but you must register. \nThis workshop will be held virtually. A Google Meet link will be emailed to all registrants two days before the event. \nIf you’d like to purchase The End to Our Beginning\, click here. The book is available in paperback\, hardcover\, and Kindle. \nI look forward to seeing you on Saturday\, Oct 19th!
URL:https://zoetozoe.com/event/workshop-3-the-end-to-our-beginning/
LOCATION:Google Meet
CATEGORIES:WORKSHOPS
ATTACH;FMTTYPE=image/png:https://zoetozoe.com/wp-content/uploads/2024/08/Revised-Book-Workshop.png
END:VEVENT
BEGIN:VEVENT
DTSTART;TZID=America/New_York:20240608T100000
DTEND;TZID=America/New_York:20240608T120000
DTSTAMP:20260423T142313
CREATED:20240315T212209Z
LAST-MODIFIED:20240502T124236Z
UID:4180-1717840800-1717848000@zoetozoe.com
SUMMARY:Workshop 2: The End to Our Beginning
DESCRIPTION:I have rescheduled this event for June 8th. \nI’m excited to announce Workshop #2!\nJoin me for teachings extracted from my book\, The End to Our Beginning.  Come fellowship\, be empowered through the Word of God\, take part in lively discussions\, and learn more about The End to Our Beginning.  This workshop is free\, but you must register. \nThis workshop will be held virtually. A Google Meet link will be emailed to all registrants two days before the event. \nIf you’d like to purchase The End to Our Beginning\, click here. The book is available in paperback\, hardcover\, and Kindle. \nI look forward to seeing you on Saturday\, June 8th!
URL:https://zoetozoe.com/event/workshop-2-the-end-to-our-beginning/
LOCATION:Google Meet
CATEGORIES:WORKSHOPS
ATTACH;FMTTYPE=image/png:https://zoetozoe.com/wp-content/uploads/2024/03/Revised-Workshop-Flyer-1.png
END:VEVENT
BEGIN:VEVENT
DTSTART;TZID=America/New_York:20240217T100000
DTEND;TZID=America/New_York:20240217T120000
DTSTAMP:20260423T142313
CREATED:20240202T045243Z
LAST-MODIFIED:20240203T195325Z
UID:4136-1708164000-1708171200@zoetozoe.com
SUMMARY:Workshop 1: The End to Our Beginning
DESCRIPTION:I’m excited to announce my inaugural workshop!\nJoin me for teachings extracted from my book\, The End to Our Beginning.  Come fellowship\, be empowered through the Word of God\, take part in lively discussions\, and learn more about The End to Our Beginning.  This workshop is free\, but you must register. Space is limited\, so secure your spot today. \nThe workshop will be held at the Social Cafe in its Social Room (food is available for purchase). \nIf you have a copy of the book\, please bring it to the workshop. I will be signing books as well. \nIf you’d like to purchase The End to Our Beginning\, click here. The book is available in paperback\, hardcover\, and Kindle. \nI look forward to seeing you on Saturday\, Feb 17th!
URL:https://zoetozoe.com/event/workshop-1-the-end-to-our-beginning/
LOCATION:Social Cafe\, 2439 Main Street East\, Suite 7\, Snellville\, GA\, 30078\, United States
CATEGORIES:WORKSHOPS
ATTACH;FMTTYPE=image/png:https://zoetozoe.com/wp-content/uploads/2024/02/TETOB-Workshop-Cover.png
END:VEVENT
BEGIN:VEVENT
DTSTART;VALUE=DATE:20221028
DTEND;VALUE=DATE:20221031
DTSTAMP:20260423T142313
CREATED:20220519T131830Z
LAST-MODIFIED:20220519T131830Z
UID:2672-1666915200-1667174399@zoetozoe.com
SUMMARY:Passageway to the Secret Place Retreat
DESCRIPTION:The Passageway to the Secret Place Retreat tickets are going on sale soon! Come join us up in the North Georgia mountains as we spend an intimate weekend with the Holy Spirit. The retreat is 3 days and 2 nights of freedom\, healing\, deliverance\, fellowship\, and much\, much more.
URL:https://zoetozoe.com/event/passageway-to-the-secret-place-retreat/
ATTACH;FMTTYPE=image/png:https://zoetozoe.com/wp-content/uploads/2022/05/the-mary-experience-retreat.png
END:VEVENT
BEGIN:VEVENT
DTSTART;TZID=UTC:20220326T123000
DTEND;TZID=UTC:20220326T143000
DTSTAMP:20260423T142313
CREATED:20220310T101301Z
LAST-MODIFIED:20220519T135237Z
UID:2270-1648297800-1648305000@zoetozoe.com
SUMMARY:Book Launch Event
DESCRIPTION:We’re excited to announce the book launch for Chawanda Walker’s inaugural published work – The End to Our Beginning! Come support\, connect and join in the celebration.
URL:https://zoetozoe.com/event/book-launch-event/
LOCATION:Church of Jesus Apostolic Ministries\, 2381 Jonesboro Rd SE\, Atlanta\, GA\, 30315\, United States
ATTACH;FMTTYPE=image/png:https://zoetozoe.com/wp-content/uploads/2022/03/Book-Signing-Flyer.png
END:VEVENT
END:VCALENDAR